BEGIN:VCALENDAR
VERSION:2.0
PRODID:-//Align Hub - ECPv6.15.20//NONSGML v1.0//EN
CALSCALE:GREGORIAN
METHOD:PUBLISH
X-WR-CALNAME:Align Hub
X-ORIGINAL-URL:https://alignhub.org
X-WR-CALDESC:Events for Align Hub
REFRESH-INTERVAL;VALUE=DURATION:PT1H
X-Robots-Tag:noindex
X-PUBLISHED-TTL:PT1H
BEGIN:VTIMEZONE
TZID:UTC
BEGIN:STANDARD
TZOFFSETFROM:+0000
TZOFFSETTO:+0000
TZNAME:UTC
DTSTART:20240101T000000
END:STANDARD
END:VTIMEZONE
BEGIN:VEVENT
DTSTART;TZID=UTC:20251004T000000
DTEND;TZID=UTC:20251004T043000
DTSTAMP:20260419T164027
CREATED:20251003T134803Z
LAST-MODIFIED:20251003T135141Z
UID:19196-1759536000-1759552200@alignhub.org
SUMMARY:Incidunt ipsam
DESCRIPTION:test
URL:https://alignhub.org/event/incidunt-ipsam/
CATEGORIES:Political
END:VEVENT
END:VCALENDAR